BEGIN:VCALENDAR
VERSION:2.0
PRODID:-//Kasthuri Sreenivasan Art Gallery, Coimbatore, India - ECPv6.15.17//NONSGML v1.0//EN
CALSCALE:GREGORIAN
METHOD:PUBLISH
X-WR-CALNAME:Kasthuri Sreenivasan Art Gallery, Coimbatore, India
X-ORIGINAL-URL:https://www.kasthurisreenivasanartgallery.com
X-WR-CALDESC:Events for Kasthuri Sreenivasan Art Gallery, Coimbatore, India
REFRESH-INTERVAL;VALUE=DURATION:PT1H
X-Robots-Tag:noindex
X-PUBLISHED-TTL:PT1H
BEGIN:VTIMEZONE
TZID:Asia/Kolkata
BEGIN:STANDARD
TZOFFSETFROM:+0530
TZOFFSETTO:+0530
TZNAME:IST
DTSTART:20250101T000000
END:STANDARD
END:VTIMEZONE
BEGIN:VEVENT
DTSTART;TZID=Asia/Kolkata:20260304T100000
DTEND;TZID=Asia/Kolkata:20260304T183000
DTSTAMP:20260423T032906
CREATED:20260302T043343Z
LAST-MODIFIED:20260302T043343Z
UID:1277-1772618400-1772649000@www.kasthurisreenivasanartgallery.com
SUMMARY:232nd Painting Exhibition
DESCRIPTION:International Womens’s Day Art Exhibition 2026  \nDate: 04th March 2026\nTime : 10.00 a.m to 06.30 p.m \n Invitation
URL:https://www.kasthurisreenivasanartgallery.com/event/232nd-painting-exhibition/
END:VEVENT
END:VCALENDAR